BEGIN:VCALENDAR
VERSION:2.0
PRODID:-//Cody Archery Club, Inc. - ECPv6.15.20//NONSGML v1.0//EN
CALSCALE:GREGORIAN
METHOD:PUBLISH
X-WR-CALNAME:Cody Archery Club, Inc.
X-ORIGINAL-URL:https://codyarcheryclub.com
X-WR-CALDESC:Events for Cody Archery Club, Inc.
REFRESH-INTERVAL;VALUE=DURATION:PT1H
X-Robots-Tag:noindex
X-PUBLISHED-TTL:PT1H
BEGIN:VTIMEZONE
TZID:America/Los_Angeles
BEGIN:DAYLIGHT
TZOFFSETFROM:-0800
TZOFFSETTO:-0700
TZNAME:PDT
DTSTART:20250309T100000
END:DAYLIGHT
BEGIN:STANDARD
TZOFFSETFROM:-0700
TZOFFSETTO:-0800
TZNAME:PST
DTSTART:20251102T090000
END:STANDARD
BEGIN:DAYLIGHT
TZOFFSETFROM:-0800
TZOFFSETTO:-0700
TZNAME:PDT
DTSTART:20260308T100000
END:DAYLIGHT
BEGIN:STANDARD
TZOFFSETFROM:-0700
TZOFFSETTO:-0800
TZNAME:PST
DTSTART:20261101T090000
END:STANDARD
BEGIN:DAYLIGHT
TZOFFSETFROM:-0800
TZOFFSETTO:-0700
TZNAME:PDT
DTSTART:20270314T100000
END:DAYLIGHT
BEGIN:STANDARD
TZOFFSETFROM:-0700
TZOFFSETTO:-0800
TZNAME:PST
DTSTART:20271107T090000
END:STANDARD
END:VTIMEZONE
BEGIN:VEVENT
DTSTART;TZID=America/Los_Angeles:20260115T180000
DTEND;TZID=America/Los_Angeles:20260115T193000
DTSTAMP:20260421T043516
CREATED:20251218T170144Z
LAST-MODIFIED:20251219T195931Z
UID:765-1768500000-1768505400@codyarcheryclub.com
SUMMARY:January Club Meeting
DESCRIPTION:Join us for the January monthly meeting. January 15\, 2026 @ 6pm \nPark County Complex-   President and Vice President Needed \nTentatively Planned Shoots 2026:\n~ Annual Marion DeBusk Memorial Shoot – April 25 & 26\n~June – Annual K Bar Z 3D – June 13 & 14\n~August – Member Appreciation BBQ & Shoot @ outdoor range \nIf you cannot make it to the meeting\, but have thoughts\, concerns\, opinions or would like to attend via phone please email the club at codywyarcheryclub@gmail.com\nOur meetings are open to the public\, so if you are not a member but are interested in learning more\, you are more than welcome to attend.
URL:https://codyarcheryclub.com/event/club-meeting-2/
LOCATION:Park County Complex\, 1501 Stampede\, Cody\, WY\, 82414\, United States
ORGANIZER;CN="Cody Archery Club":MAILTO:codywyarcheryclub@gmail.com
END:VEVENT
END:VCALENDAR