BEGIN:VCALENDAR
VERSION:2.0
PRODID:-//Cody Archery Club, Inc. - ECPv6.15.20//NONSGML v1.0//EN
CALSCALE:GREGORIAN
METHOD:PUBLISH
X-WR-CALNAME:Cody Archery Club, Inc.
X-ORIGINAL-URL:https://codyarcheryclub.com
X-WR-CALDESC:Events for Cody Archery Club, Inc.
REFRESH-INTERVAL;VALUE=DURATION:PT1H
X-Robots-Tag:noindex
X-PUBLISHED-TTL:PT1H
BEGIN:VTIMEZONE
TZID:America/Denver
BEGIN:DAYLIGHT
TZOFFSETFROM:-0700
TZOFFSETTO:-0600
TZNAME:MDT
DTSTART:20250309T090000
END:DAYLIGHT
BEGIN:STANDARD
TZOFFSETFROM:-0600
TZOFFSETTO:-0700
TZNAME:MST
DTSTART:20251102T080000
END:STANDARD
BEGIN:DAYLIGHT
TZOFFSETFROM:-0700
TZOFFSETTO:-0600
TZNAME:MDT
DTSTART:20260308T090000
END:DAYLIGHT
BEGIN:STANDARD
TZOFFSETFROM:-0600
TZOFFSETTO:-0700
TZNAME:MST
DTSTART:20261101T080000
END:STANDARD
BEGIN:DAYLIGHT
TZOFFSETFROM:-0700
TZOFFSETTO:-0600
TZNAME:MDT
DTSTART:20270314T090000
END:DAYLIGHT
BEGIN:STANDARD
TZOFFSETFROM:-0600
TZOFFSETTO:-0700
TZNAME:MST
DTSTART:20271107T080000
END:STANDARD
END:VTIMEZONE
BEGIN:VEVENT
DTSTART;TZID=America/Denver:20260218T180000
DTEND;TZID=America/Denver:20260218T200000
DTSTAMP:20260421T030234
CREATED:20250124T173956Z
LAST-MODIFIED:20260214T182344Z
UID:1288-1771437600-1771444800@codyarcheryclub.com
SUMMARY:February Meeting
DESCRIPTION:Join us for the February monthly meeting. \nFebruary 18\, 2026 @ 6pm Steph’s Kitchen 1022 13th\, Cody \nTentatively Planned Shoots 2026:\n~ Annual Marion DeBusk Memorial Shoot – April 25 & 26\n~June – Annual K Bar Z 3D – June 13 & 14\n~August – Member Appreciation BBQ & Shoot @ outdoor range \nIf you cannot make it to the meeting\, but have thoughts\, concerns\, opinions or would like to attend via phone please email the club at codywyarcheryclub@gmail.com\nOur meetings are open to the public\, so if you are not a member but are interested in learning more\, you are more than welcome to attend.
URL:https://codyarcheryclub.com/event/february-meeting/
LOCATION:Steph’s Kitchen\, 1022 13th\, Cody\, WY\, 82414\, United States
ORGANIZER;CN="Cody Archery Club":MAILTO:codywyarcheryclub@gmail.com
END:VEVENT
END:VCALENDAR