BEGIN:VCALENDAR
VERSION:2.0
PRODID:-//Cody Archery Club, Inc. - ECPv6.15.20//NONSGML v1.0//EN
CALSCALE:GREGORIAN
METHOD:PUBLISH
X-ORIGINAL-URL:https://codyarcheryclub.com
X-WR-CALDESC:Events for Cody Archery Club, Inc.
REFRESH-INTERVAL;VALUE=DURATION:PT1H
X-Robots-Tag:noindex
X-PUBLISHED-TTL:PT1H
BEGIN:VTIMEZONE
TZID:America/Los_Angeles
BEGIN:DAYLIGHT
TZOFFSETFROM:-0800
TZOFFSETTO:-0700
TZNAME:PDT
DTSTART:20250309T100000
END:DAYLIGHT
BEGIN:STANDARD
TZOFFSETFROM:-0700
TZOFFSETTO:-0800
TZNAME:PST
DTSTART:20251102T090000
END:STANDARD
BEGIN:DAYLIGHT
TZOFFSETFROM:-0800
TZOFFSETTO:-0700
TZNAME:PDT
DTSTART:20260308T100000
END:DAYLIGHT
BEGIN:STANDARD
TZOFFSETFROM:-0700
TZOFFSETTO:-0800
TZNAME:PST
DTSTART:20261101T090000
END:STANDARD
BEGIN:DAYLIGHT
TZOFFSETFROM:-0800
TZOFFSETTO:-0700
TZNAME:PDT
DTSTART:20270314T100000
END:DAYLIGHT
BEGIN:STANDARD
TZOFFSETFROM:-0700
TZOFFSETTO:-0800
TZNAME:PST
DTSTART:20271107T090000
END:STANDARD
END:VTIMEZONE
BEGIN:VEVENT
DTSTART;TZID=America/Los_Angeles:20260409T180000
DTEND;TZID=America/Los_Angeles:20260409T193000
DTSTAMP:20260420T072014
CREATED:20230321T163252Z
LAST-MODIFIED:20260320T155152Z
UID:782-1775757600-1775763000@codyarcheryclub.com
SUMMARY:April Club Meeting
DESCRIPTION:Join us for the April Meeting- April 9th\, 6pm @ Rocky Mountain Sports \nWork Party- April 18th @ 8am at the CAC outdoor range \nPlanned Shoots 2026:\n~April 25 &  April 26- Annual Marion DeBusk Memorial Shoot\n~June 13 & 14- Annual K Bar Z 3D\n~August – Member Appreciation BBQ & Shoot \nIf you cannot make it to the meeting\, but have thoughts\, concerns\, opinions or would like to attend via phone please email the club at codywyarcheryclub@gmail.com\nOur meetings are open to the public\, so if you are not a member but are interested in learning more\, you are more than welcome to attend. \nMeeting will take place at the Park County Complex building
URL:https://codyarcheryclub.com/event/april-club-meeting/
LOCATION:Rocky Mountain Sports\, 1820 17th St\, Cody\, 82414\, United States
ORGANIZER;CN="Cody Archery Club":MAILTO:codywyarcheryclub@gmail.com
END:VEVENT
END:VCALENDAR