BEGIN:VCALENDAR
VERSION:2.0
PRODID:-//Cody Archery Club, Inc. - ECPv6.15.20//NONSGML v1.0//EN
CALSCALE:GREGORIAN
METHOD:PUBLISH
X-WR-CALNAME:Cody Archery Club, Inc.
X-ORIGINAL-URL:https://codyarcheryclub.com
X-WR-CALDESC:Events for Cody Archery Club, Inc.
REFRESH-INTERVAL;VALUE=DURATION:PT1H
X-Robots-Tag:noindex
X-PUBLISHED-TTL:PT1H
BEGIN:VTIMEZONE
TZID:America/Los_Angeles
BEGIN:DAYLIGHT
TZOFFSETFROM:-0800
TZOFFSETTO:-0700
TZNAME:PDT
DTSTART:20250309T100000
END:DAYLIGHT
BEGIN:STANDARD
TZOFFSETFROM:-0700
TZOFFSETTO:-0800
TZNAME:PST
DTSTART:20251102T090000
END:STANDARD
BEGIN:DAYLIGHT
TZOFFSETFROM:-0800
TZOFFSETTO:-0700
TZNAME:PDT
DTSTART:20260308T100000
END:DAYLIGHT
BEGIN:STANDARD
TZOFFSETFROM:-0700
TZOFFSETTO:-0800
TZNAME:PST
DTSTART:20261101T090000
END:STANDARD
BEGIN:DAYLIGHT
TZOFFSETFROM:-0800
TZOFFSETTO:-0700
TZNAME:PDT
DTSTART:20270314T100000
END:DAYLIGHT
BEGIN:STANDARD
TZOFFSETFROM:-0700
TZOFFSETTO:-0800
TZNAME:PST
DTSTART:20271107T090000
END:STANDARD
END:VTIMEZONE
BEGIN:VEVENT
DTSTART;TZID=America/Los_Angeles:20260425T080000
DTEND;TZID=America/Los_Angeles:20260426T150000
DTSTAMP:20260420T071806
CREATED:20250210T150938Z
LAST-MODIFIED:20260131T202842Z
UID:838-1777104000-1777215600@codyarcheryclub.com
SUMMARY:Marion DeBusk Memorial 3D Shoot
DESCRIPTION:Fun for the whole family! This shoot follows a Redding style scoring system of 11\, 10\, 8 and there will be multiple shooting stakes at each target letting families and friends shoot together no matter the age or shooting style.\nThis is a great event for beginner shooters\, and a fun change of pace for all you seasoned archers. Come join us to honor Cody Archery Club founding member Marion DeBusk by taking part in the fun shoot! Part of the proceeds will go towards Cancer Awareness! CAC is proud to announce we donated $1\,000 to Peaks to Conga from our 2024 Marion DeBusk Memorial shoot and $1\,000 to Spirit Mountain Hospice from our 2023 Memorial shoot.\nIf you have questions\, please comment or send us a message. \n  \n 
URL:https://codyarcheryclub.com/event/marion-debusk-memorial-shoot/
LOCATION:Cody Archery Club Range
ORGANIZER;CN="Cody Archery Club":MAILTO:codywyarcheryclub@gmail.com
END:VEVENT
END:VCALENDAR