BEGIN:VCALENDAR
VERSION:2.0
PRODID:-//Cody Archery Club, Inc. - ECPv6.15.20//NONSGML v1.0//EN
CALSCALE:GREGORIAN
METHOD:PUBLISH
X-WR-CALNAME:Cody Archery Club, Inc.
X-ORIGINAL-URL:https://codyarcheryclub.com
X-WR-CALDESC:Events for Cody Archery Club, Inc.
REFRESH-INTERVAL;VALUE=DURATION:PT1H
X-Robots-Tag:noindex
X-PUBLISHED-TTL:PT1H
BEGIN:VTIMEZONE
TZID:America/Los_Angeles
BEGIN:DAYLIGHT
TZOFFSETFROM:-0800
TZOFFSETTO:-0700
TZNAME:PDT
DTSTART:20250309T100000
END:DAYLIGHT
BEGIN:STANDARD
TZOFFSETFROM:-0700
TZOFFSETTO:-0800
TZNAME:PST
DTSTART:20251102T090000
END:STANDARD
BEGIN:DAYLIGHT
TZOFFSETFROM:-0800
TZOFFSETTO:-0700
TZNAME:PDT
DTSTART:20260308T100000
END:DAYLIGHT
BEGIN:STANDARD
TZOFFSETFROM:-0700
TZOFFSETTO:-0800
TZNAME:PST
DTSTART:20261101T090000
END:STANDARD
BEGIN:DAYLIGHT
TZOFFSETFROM:-0800
TZOFFSETTO:-0700
TZNAME:PDT
DTSTART:20270314T100000
END:DAYLIGHT
BEGIN:STANDARD
TZOFFSETFROM:-0700
TZOFFSETTO:-0800
TZNAME:PST
DTSTART:20271107T090000
END:STANDARD
END:VTIMEZONE
BEGIN:VEVENT
DTSTART;TZID=America/Los_Angeles:20260612T090000
DTEND;TZID=America/Los_Angeles:20260614T163000
DTSTAMP:20260420T232420
CREATED:20251219T175934Z
LAST-MODIFIED:20251219T194543Z
UID:823-1781254800-1781454600@codyarcheryclub.com
SUMMARY:Annual K Bar Z 3D Weekend
DESCRIPTION:  \n  \nJune 13 & 14\, 2026 \nCody Archery Club’s annual K Bar Z 3D Event takes place the second weekend of June every year at the beautiful K Bar Z Guest Ranch in Crandall\, Wyoming. Make sure to call the ranch as early as possible to reserve your cabin or camping spot. They go QUICK! \nThere will be a total of 60 targets split into 2 courses. Each participant will shoot a course each day. Your course will be assigned at the registration table. If you are shooting both Saturday and Sunday\, you will shoot each course once for a combined two day total for money payback & a Belt Buckle! There will NOT be awards for each day\, you must shoot both days to qualify for awards.\nThe shoot goes on no matter the weather\, so pack accordingly. Wyoming weather can change in an instant! \nFriday we will have pre-registration starting @5:30pm \nSaturday afternoon is jam packed with novelty shoots starting at 2:30PM. They are kicked off with youth Novelty shoots followed by an adult Novelty shoots -Milk jug shoot\, Balloon shoot and Poker shoot.\nFeel free to contact a board member or email the club at codywyarcheryclub@gmail.com for more info. \n 
URL:https://codyarcheryclub.com/event/annual-k-bar-z-3d-weekend/
LOCATION:K Bar Z Guest Ranch\, 3477 Crandall Road\, Cody\, Wyoming
ORGANIZER;CN="Cody Archery Club":MAILTO:codywyarcheryclub@gmail.com
END:VEVENT
END:VCALENDAR